BEGIN:VCALENDAR
VERSION:2.0
PRODID:-//FundArt - ECPv5.12.2//NONSGML v1.0//EN
CALSCALE:GREGORIAN
METHOD:PUBLISH
X-WR-CALNAME:FundArt
X-ORIGINAL-URL:https://fundart.com.br
X-WR-CALDESC:Eventos para FundArt
BEGIN:VTIMEZONE
TZID:America/Sao_Paulo
BEGIN:STANDARD
TZOFFSETFROM:-0200
TZOFFSETTO:-0300
TZNAME:-03
DTSTART:20180218T020000
END:STANDARD
BEGIN:DAYLIGHT
TZOFFSETFROM:-0300
TZOFFSETTO:-0200
TZNAME:-02
DTSTART:20181104T030000
END:DAYLIGHT
END:VTIMEZONE
BEGIN:VEVENT
DTSTART;TZID=America/Sao_Paulo:20181203T180000
DTEND;TZID=America/Sao_Paulo:20181203T180000
DTSTAMP:20260423T051447
CREATED:20180221T133337Z
LAST-MODIFIED:20180221T133422Z
UID:23117-1543860000-1543860000@fundart.com.br
SUMMARY:Reunião do Grupo Setorial de Artes Cênicas\, Circo e Dança
DESCRIPTION:
URL:https://fundart.com.br/evento/reuniao-do-grupo-setorial-de-artes-cenicas-circo-e-danca-3/
LOCATION:Sede Administrativa da FundArt\, Praça Nóbrega\, 54 - Centro\, Ubatuba\, 11680-000
CATEGORIES:FundArt,Grupo Setorial de Artes Cênicas,Grupos Setoriais
ATTACH;FMTTYPE=image/jpeg:https://fundart.com.br/wp-content/uploads/2017/03/mascara-teatro.jpg
END:VEVENT
END:VCALENDAR