BEGIN:VCALENDAR
VERSION:2.0
PRODID:-//FundArt - ECPv5.12.2//NONSGML v1.0//EN
CALSCALE:GREGORIAN
METHOD:PUBLISH
X-WR-CALNAME:FundArt
X-ORIGINAL-URL:https://fundart.com.br
X-WR-CALDESC:Eventos para FundArt
BEGIN:VTIMEZONE
TZID:America/Sao_Paulo
BEGIN:STANDARD
TZOFFSETFROM:-0300
TZOFFSETTO:-0300
TZNAME:-03
DTSTART:20210101T000000
END:STANDARD
END:VTIMEZONE
BEGIN:VEVENT
DTSTART;TZID=America/Sao_Paulo:20210816T180000
DTEND;TZID=America/Sao_Paulo:20210816T190000
DTSTAMP:20260420T094540
CREATED:20210813T145401Z
LAST-MODIFIED:20210813T174226Z
UID:33393-1629136800-1629140400@fundart.com.br
SUMMARY:Reunião do Conselho Municipal de Política Cultural – CMPC
DESCRIPTION:08/21 -EDITAL DE CONVOCAÇÃO PARA REUNIÃO ORDINÁRIA DO CONSELHO MUNICIPAL DE POLÍTICA CULTURAL DE UBATUBA – CMPC\n	Fazer download deste documento \n	\n      	Este navegador não suporta exibir arquivos em PDF!
URL:https://fundart.com.br/evento/reuniao-do-conselho-municipal-de-politica-cultural-cmpc/
LOCATION:Online
CATEGORIES:Conferência Municipal de Cultura
ATTACH;FMTTYPE=image/jpeg:https://fundart.com.br/wp-content/uploads/2021/02/cmpc.jpg
END:VEVENT
END:VCALENDAR