BEGIN:VCALENDAR
VERSION:2.0
PRODID:-//FundArt - ECPv5.12.2//NONSGML v1.0//EN
CALSCALE:GREGORIAN
METHOD:PUBLISH
X-WR-CALNAME:FundArt
X-ORIGINAL-URL:https://fundart.com.br
X-WR-CALDESC:Eventos para FundArt
BEGIN:VTIMEZONE
TZID:America/Sao_Paulo
BEGIN:STANDARD
TZOFFSETFROM:-0300
TZOFFSETTO:-0300
TZNAME:-03
DTSTART:20220101T000000
END:STANDARD
END:VTIMEZONE
BEGIN:VEVENT
DTSTART;TZID=America/Sao_Paulo:20220929T150000
DTEND;TZID=America/Sao_Paulo:20220929T170000
DTSTAMP:20260419T144045
CREATED:20220831T125811Z
LAST-MODIFIED:20220831T125811Z
UID:35311-1664463600-1664470800@fundart.com.br
SUMMARY:Reunião do Conselho Fiscal da FundArt
DESCRIPTION:
URL:https://fundart.com.br/evento/reuniao-do-conselho-fiscal-da-fundart-5/
LOCATION:Sede Administrativa da FundArt\, Praça Nóbrega\, 54 - Centro\, Ubatuba\, 11680-000
CATEGORIES:Conselho Fiscal
ATTACH;FMTTYPE=image/jpeg:https://fundart.com.br/wp-content/uploads/2021/04/nota-fiscal-de-servico-eletronica.jpg
END:VEVENT
END:VCALENDAR