BEGIN:VCALENDAR
VERSION:2.0
PRODID:-//FundArt - ECPv5.12.2//NONSGML v1.0//EN
CALSCALE:GREGORIAN
METHOD:PUBLISH
X-WR-CALNAME:FundArt
X-ORIGINAL-URL:https://fundart.com.br
X-WR-CALDESC:Eventos para FundArt
BEGIN:VTIMEZONE
TZID:America/Sao_Paulo
BEGIN:STANDARD
TZOFFSETFROM:-0200
TZOFFSETTO:-0300
TZNAME:-03
DTSTART:20180218T020000
END:STANDARD
BEGIN:DAYLIGHT
TZOFFSETFROM:-0300
TZOFFSETTO:-0200
TZNAME:-02
DTSTART:20181104T030000
END:DAYLIGHT
END:VTIMEZONE
BEGIN:VEVENT
DTSTART;TZID=America/Sao_Paulo:20180716T180000
DTEND;TZID=America/Sao_Paulo:20180716T180000
DTSTAMP:20260424T152731
CREATED:20180216T122016Z
LAST-MODIFIED:20180216T122016Z
UID:23029-1531764000-1531764000@fundart.com.br
SUMMARY:Reunião do Conselho Deliberativo
DESCRIPTION:1ª Chamada: 18h \n2ª Chamada: 18h15
URL:https://fundart.com.br/evento/reuniao-do-conselho-deliberativo-5/
ATTACH;FMTTYPE=image/jpeg:https://fundart.com.br/wp-content/uploads/2018/02/Conselho-deliberativo-2018-foto-zumbi-1.jpg
END:VEVENT
END:VCALENDAR