BEGIN:VCALENDAR
VERSION:2.0
PRODID:-//FundArt - ECPv5.12.2//NONSGML v1.0//EN
CALSCALE:GREGORIAN
METHOD:PUBLISH
X-WR-CALNAME:FundArt
X-ORIGINAL-URL:https://fundart.com.br
X-WR-CALDESC:Eventos para FundArt
BEGIN:VTIMEZONE
TZID:America/Sao_Paulo
BEGIN:STANDARD
TZOFFSETFROM:-0300
TZOFFSETTO:-0300
TZNAME:-03
DTSTART:20220101T000000
END:STANDARD
END:VTIMEZONE
BEGIN:VEVENT
DTSTART;TZID=America/Sao_Paulo:20220609T180000
DTEND;TZID=America/Sao_Paulo:20220609T190000
DTSTAMP:20260419T201521
CREATED:20220606T151627Z
LAST-MODIFIED:20220606T152038Z
UID:35020-1654797600-1654801200@fundart.com.br
SUMMARY:Reunião Ordinária  do Conselho Deliberativo
DESCRIPTION:
URL:https://fundart.com.br/evento/reuniao-do-conselho-deliberativo-12/
LOCATION:Sede Administrativa FundArt\, Praça Nóbrega\, 54 - Centro\, Ubatuba
CATEGORIES:Conselho Deliberativo
ATTACH;FMTTYPE=image/jpeg:https://fundart.com.br/wp-content/uploads/2017/03/fundart_placa.jpg
END:VEVENT
END:VCALENDAR