BEGIN:VCALENDAR
VERSION:2.0
PRODID:-//FundArt - ECPv5.12.2//NONSGML v1.0//EN
CALSCALE:GREGORIAN
METHOD:PUBLISH
X-WR-CALNAME:FundArt
X-ORIGINAL-URL:https://fundart.com.br
X-WR-CALDESC:Eventos para FundArt
BEGIN:VTIMEZONE
TZID:America/Sao_Paulo
BEGIN:STANDARD
TZOFFSETFROM:-0200
TZOFFSETTO:-0300
TZNAME:-03
DTSTART:20190217T020000
END:STANDARD
END:VTIMEZONE
BEGIN:VEVENT
DTSTART;TZID=America/Sao_Paulo:20190309T203000
DTEND;TZID=America/Sao_Paulo:20190309T203000
DTSTAMP:20260422T052814
CREATED:20190219T125839Z
LAST-MODIFIED:20190219T125839Z
UID:27062-1552163400-1552163400@fundart.com.br
SUMMARY:Retreta Maestro Pedrinho
DESCRIPTION:
URL:https://fundart.com.br/evento/retreta-maestro-pedrinho/
ATTACH;FMTTYPE=image/jpeg:https://fundart.com.br/wp-content/uploads/2018/12/retreta-maestro-pedrinho1.jpg
END:VEVENT
END:VCALENDAR