BEGIN:VCALENDAR
VERSION:2.0
PRODID:-//FundArt - ECPv5.12.2//NONSGML v1.0//EN
CALSCALE:GREGORIAN
METHOD:PUBLISH
X-WR-CALNAME:FundArt
X-ORIGINAL-URL:https://fundart.com.br
X-WR-CALDESC:Eventos para FundArt
BEGIN:VTIMEZONE
TZID:America/Sao_Paulo
BEGIN:STANDARD
TZOFFSETFROM:-0200
TZOFFSETTO:-0300
TZNAME:-03
DTSTART:20180218T020000
END:STANDARD
BEGIN:DAYLIGHT
TZOFFSETFROM:-0300
TZOFFSETTO:-0200
TZNAME:-02
DTSTART:20181104T030000
END:DAYLIGHT
END:VTIMEZONE
BEGIN:VEVENT
DTSTART;TZID=America/Sao_Paulo:20180616T100000
DTEND;TZID=America/Sao_Paulo:20180616T100000
DTSTAMP:20260424T183418
CREATED:20180529T162709Z
LAST-MODIFIED:20180529T163029Z
UID:24355-1529143200-1529143200@fundart.com.br
SUMMARY:Retreta Maestro Pedrinho se apresenta no evento "prefeitura no bairro"
DESCRIPTION:Retreta maestro Pedrinho se apresenta\, às 10h\, no bairro do Taquaral.
URL:https://fundart.com.br/evento/retreta-maestro-pedrinho-se-apresenta-no-evento-prefeitura-no-bairro/
ATTACH;FMTTYPE=image/jpeg:https://fundart.com.br/wp-content/uploads/2017/11/retreta-maestro-pedrinho.jpg
END:VEVENT
END:VCALENDAR