BEGIN:VCALENDAR
VERSION:2.0
PRODID:-//FundArt - ECPv5.12.2//NONSGML v1.0//EN
CALSCALE:GREGORIAN
METHOD:PUBLISH
X-WR-CALNAME:FundArt
X-ORIGINAL-URL:https://fundart.com.br
X-WR-CALDESC:Eventos para FundArt
BEGIN:VTIMEZONE
TZID:America/Sao_Paulo
BEGIN:STANDARD
TZOFFSETFROM:-0200
TZOFFSETTO:-0300
TZNAME:-03
DTSTART:20190217T020000
END:STANDARD
END:VTIMEZONE
BEGIN:VEVENT
DTSTART;TZID=America/Sao_Paulo:20190316T203000
DTEND;TZID=America/Sao_Paulo:20190316T203000
DTSTAMP:20260422T065320
CREATED:20190219T125956Z
LAST-MODIFIED:20190219T125956Z
UID:27064-1552768200-1552768200@fundart.com.br
SUMMARY:Retreta Maestro Pedrinho
DESCRIPTION:Música na Praça
URL:https://fundart.com.br/evento/retreta-maestro-pedrinho-2/
ATTACH;FMTTYPE=image/jpeg:https://fundart.com.br/wp-content/uploads/2015/06/RETRETA-MAESTRO-PEDRINHO-1.jpg
END:VEVENT
END:VCALENDAR