BEGIN:VCALENDAR
VERSION:2.0
PRODID:-//FundArt - ECPv5.12.2//NONSGML v1.0//EN
CALSCALE:GREGORIAN
METHOD:PUBLISH
X-WR-CALNAME:FundArt
X-ORIGINAL-URL:https://fundart.com.br
X-WR-CALDESC:Eventos para FundArt
BEGIN:VTIMEZONE
TZID:America/Sao_Paulo
BEGIN:STANDARD
TZOFFSETFROM:-0300
TZOFFSETTO:-0300
TZNAME:-03
DTSTART:20210101T000000
END:STANDARD
END:VTIMEZONE
BEGIN:VEVENT
DTSTART;TZID=America/Sao_Paulo:20211124T200000
DTEND;TZID=America/Sao_Paulo:20211124T220000
DTSTAMP:20260420T051350
CREATED:20211123T195913Z
LAST-MODIFIED:20211123T195913Z
UID:34062-1637784000-1637791200@fundart.com.br
SUMMARY:Quarta RockPop - Projeto Expresso: Avenida Musical
DESCRIPTION:Nos dias 23\, 24 e 25 de novembro\, a Prefeitura Municipal através da Fundação de Arte e Cultura de Ubatuba – FundArt\, realiza o “Projeto Expresso: Avenida Musical”. \nO evento aproveita a estrutura já instalada na Avenida Iperoig e as apresentações acontecerão na Praça de Eventos\, às 20h. \nConfira a programação dos shows: \nQuarta RockPop (24/11)\nLeandro Araújo\nSondbroder
URL:https://fundart.com.br/evento/quarta-rockpop-projeto-expresso-avenida-musical/
LOCATION:Praça de Eventos\, Avenida Iperoig
ATTACH;FMTTYPE=image/jpeg:https://fundart.com.br/wp-content/uploads/2021/11/Avenida-Musical.jpeg
END:VEVENT
END:VCALENDAR