BEGIN:VCALENDAR
VERSION:2.0
PRODID:-//FundArt - ECPv5.12.2//NONSGML v1.0//EN
CALSCALE:GREGORIAN
METHOD:PUBLISH
X-WR-CALNAME:FundArt
X-ORIGINAL-URL:https://fundart.com.br
X-WR-CALDESC:Eventos para FundArt
BEGIN:VTIMEZONE
TZID:America/Sao_Paulo
BEGIN:STANDARD
TZOFFSETFROM:-0200
TZOFFSETTO:-0300
TZNAME:-03
DTSTART:20190217T020000
END:STANDARD
END:VTIMEZONE
BEGIN:VEVENT
DTSTART;TZID=America/Sao_Paulo:20191024T190000
DTEND;TZID=America/Sao_Paulo:20191024T190000
DTSTAMP:20260421T200604
CREATED:20191003T142146Z
LAST-MODIFIED:20191003T142146Z
UID:29185-1571943600-1571943600@fundart.com.br
SUMMARY:Pontos MIS - Trago Comigo
DESCRIPTION:
URL:https://fundart.com.br/evento/pontos-mis-trago-comigo/
LOCATION:Biblioteca Pública Municipal ” Ateneu Ubatubense”\, Praça 13 de Maio\, 52 - Centro\, Ubatuba
CATEGORIES:Pontos MIS
END:VEVENT
END:VCALENDAR