BEGIN:VCALENDAR
VERSION:2.0
PRODID:-//FundArt - ECPv5.12.2//NONSGML v1.0//EN
CALSCALE:GREGORIAN
METHOD:PUBLISH
X-WR-CALNAME:FundArt
X-ORIGINAL-URL:https://fundart.com.br
X-WR-CALDESC:Eventos para FundArt
BEGIN:VTIMEZONE
TZID:America/Sao_Paulo
BEGIN:STANDARD
TZOFFSETFROM:-0200
TZOFFSETTO:-0300
TZNAME:-03
DTSTART:20180218T020000
END:STANDARD
BEGIN:DAYLIGHT
TZOFFSETFROM:-0300
TZOFFSETTO:-0200
TZNAME:-02
DTSTART:20181104T030000
END:DAYLIGHT
END:VTIMEZONE
BEGIN:VEVENT
DTSTART;VALUE=DATE:20180422
DTEND;VALUE=DATE:20180423
DTSTAMP:20260424T195140
CREATED:20180328T193754Z
LAST-MODIFIED:20180328T193754Z
UID:23500-1524355200-1524441599@fundart.com.br
SUMMARY:Peregrinação da Folia do Divino no Sertão do Ingá
DESCRIPTION:O Grupo de Folia do Divino Espírito Santo de Ubatuba visita no dia 22 de abril (domingo)\, o bairro do Sertão do Ingá. A peregrinação pelas casas do bairro tem início às 8h e segue durante todo o dia. \n\n\nTrazida pela Rainha Isabel de Portugal no séc. XVII\, a Festa do Divino Espírito Santo é uma das mais antigas manifestações religiosas do Brasil. Em Ubatuba\, essa manifestação ocorre de Norte a Sul há mais de dois séculos\, segundo antigos caiçaras. \nNo passado\, até a década de 50\, a Festa do Divino Espírito Santo era a mais respeitada e valorizada. As comunidades das praias e sertões se preparavam com antecedência para receber a Folia do Divino\, que com seus foliões\, visitava a casa dos devotos com suas violas\, rabecas e caixa seguindo a bandeira sagrada \nAtualmente a Folia é composta por pessoas de várias extremidades do município\, como Almada\, Ubatumirim\, Promirim\, Praia Vermelha e Itaguá. Filhos e netos de antigos foliões\, essas pessoas levam consigo a arte e a cultura de um povo que resiste a tantas mudanças\, a Cultura Caiçara.
URL:https://fundart.com.br/evento/peregrinacao-da-folia-do-divino-no-sertao-do-inga/
LOCATION:Sertão do Ingá
CATEGORIES:Folia do Divino Espírito Santo
ATTACH;FMTTYPE=image/jpeg:https://fundart.com.br/wp-content/uploads/2016/06/11102967_10152963585374263_4712171256831742932_o.jpg
END:VEVENT
END:VCALENDAR