BEGIN:VCALENDAR
VERSION:2.0
PRODID:-//FundArt - ECPv5.12.2//NONSGML v1.0//EN
CALSCALE:GREGORIAN
METHOD:PUBLISH
X-WR-CALNAME:FundArt
X-ORIGINAL-URL:https://fundart.com.br
X-WR-CALDESC:Eventos para FundArt
BEGIN:VTIMEZONE
TZID:America/Sao_Paulo
BEGIN:STANDARD
TZOFFSETFROM:-0200
TZOFFSETTO:-0300
TZNAME:-03
DTSTART:20180218T020000
END:STANDARD
BEGIN:DAYLIGHT
TZOFFSETFROM:-0300
TZOFFSETTO:-0200
TZNAME:-02
DTSTART:20181104T030000
END:DAYLIGHT
END:VTIMEZONE
BEGIN:VEVENT
DTSTART;TZID=America/Sao_Paulo:20180425T190000
DTEND;TZID=America/Sao_Paulo:20180427T220000
DTSTAMP:20260424T195134
CREATED:20180416T190846Z
LAST-MODIFIED:20180416T190846Z
UID:24018-1524682800-1524866400@fundart.com.br
SUMMARY:Oficina Cinema da Escuta: aulas teóricas
DESCRIPTION:Os três primeiros encontros acontecerão na Biblioteca Municipal e serão teóricos\, com base em documentários\, entrevistas\, cinema híbrido\, técnicas de aproximação e a filosofia de Eduardo Coutinho de procurar compreender a razão do outro. \nJá o quarto encontro\, será realizado no Sobradão do Porto com uma dinâmica um pouco mais prática\, de entrevista com um personagem pré-selecionado para a oficina\, para exercitar o lugar do bom entrevistador. O resultado final será apresentado na oficina e postado na internet. \nA atividade é fruto da parceria entre Prefeitura Municipal e FundArt com a Poiesis – Organização Social de Cultura e o Programa de Oficinas Culturais da Secretaria de Estado da Cultura do Governo de São Paulo. \n  \nSERVIÇO\nOficina Cinema da Escuta com Victor Fisch \nAulas teóricas: 25\, 26 e 27 de abril\nLocal: Biblioteca Pública Municipal “Ateneu Ubatubense” \nEndereço: Praça 13 de maio\, 52 – Centro \nHorário: das 19h às 22h \nAula prática: 28 de abril (sábado)\nLocal: Sobradão do Porto \nEndereço: Praça Anchieta\, 38 – Centro \nHorário: 9h às 12h e das 14h às 17h
URL:https://fundart.com.br/evento/oficina-cinema-da-escuta-aulas-teoricas/
LOCATION:Biblioteca Pública Municipal\, Praça 13 de Maio - centro\, Ubatuba\, Brasil
CATEGORIES:Documentário,Workshop
ATTACH;FMTTYPE=image/jpeg:https://fundart.com.br/wp-content/uploads/2018/04/divulgação-cinema-da-escuta-ubatuba_2.jpg
END:VEVENT
END:VCALENDAR