BEGIN:VCALENDAR
VERSION:2.0
PRODID:-//FundArt - ECPv5.12.2//NONSGML v1.0//EN
CALSCALE:GREGORIAN
METHOD:PUBLISH
X-WR-CALNAME:FundArt
X-ORIGINAL-URL:https://fundart.com.br
X-WR-CALDESC:Eventos para FundArt
BEGIN:VTIMEZONE
TZID:America/Sao_Paulo
BEGIN:STANDARD
TZOFFSETFROM:-0200
TZOFFSETTO:-0300
TZNAME:-03
DTSTART:20190217T020000
END:STANDARD
END:VTIMEZONE
BEGIN:VEVENT
DTSTART;TZID=America/Sao_Paulo:20191016T140000
DTEND;TZID=America/Sao_Paulo:20191016T140000
DTSTAMP:20260421T190625
CREATED:20191003T135042Z
LAST-MODIFIED:20191003T135139Z
UID:29154-1571234400-1571234400@fundart.com.br
SUMMARY:Oficina “Brincadeiras à Brasileira” (Andressa Nishiyama)
DESCRIPTION:4º FePET – Festival dos Pequenos Espaços Teatrais
URL:https://fundart.com.br/evento/oficina-brincadeiras-brasileira-andressa-nishiyama/
LOCATION:Namaskar\, Rua Del Rey\, 186 – Sesmaria
CATEGORIES:FePET
END:VEVENT
END:VCALENDAR