BEGIN:VCALENDAR
VERSION:2.0
PRODID:-//FundArt - ECPv5.12.2//NONSGML v1.0//EN
CALSCALE:GREGORIAN
METHOD:PUBLISH
X-WR-CALNAME:FundArt
X-ORIGINAL-URL:https://fundart.com.br
X-WR-CALDESC:Eventos para FundArt
BEGIN:VTIMEZONE
TZID:America/Sao_Paulo
BEGIN:STANDARD
TZOFFSETFROM:-0200
TZOFFSETTO:-0300
TZNAME:-03
DTSTART:20190217T020000
END:STANDARD
END:VTIMEZONE
BEGIN:VEVENT
DTSTART;TZID=America/Sao_Paulo:20191013T203000
DTEND;TZID=America/Sao_Paulo:20191013T203000
DTSTAMP:20260421T202541
CREATED:20191003T133633Z
LAST-MODIFIED:20191003T133633Z
UID:29142-1570998600-1570998600@fundart.com.br
SUMMARY:Música na Praça com a Retreta Maestro Pedrinho
DESCRIPTION:
URL:https://fundart.com.br/evento/musica-na-praca-com-retreta-maestro-pedrinho-23/
LOCATION:Praça Exaltação da Santa Cruz\, Centro\, Ubatuba
CATEGORIES:Música na Praça,Retreta Maestro Pedrinho
END:VEVENT
END:VCALENDAR