BEGIN:VCALENDAR
VERSION:2.0
PRODID:-//FundArt - ECPv5.12.2//NONSGML v1.0//EN
CALSCALE:GREGORIAN
METHOD:PUBLISH
X-WR-CALNAME:FundArt
X-ORIGINAL-URL:https://fundart.com.br
X-WR-CALDESC:Eventos para FundArt
BEGIN:VTIMEZONE
TZID:America/Sao_Paulo
BEGIN:STANDARD
TZOFFSETFROM:-0200
TZOFFSETTO:-0300
TZNAME:-03
DTSTART:20190217T020000
END:STANDARD
END:VTIMEZONE
BEGIN:VEVENT
DTSTART;TZID=America/Sao_Paulo:20190203T203000
DTEND;TZID=America/Sao_Paulo:20190203T203000
DTSTAMP:20260422T065534
CREATED:20190131T110153Z
LAST-MODIFIED:20190131T110153Z
UID:26831-1549225800-1549225800@fundart.com.br
SUMMARY:Música na Praça com a Retreta Maestro Pedrinho
DESCRIPTION:Música na Praça com a Retreta Maestro Pedrinho\nData: 03 de fevereiro – domingo\nHorário: 20h30\nLocal: Praça Exaltação da Santa Cruz
URL:https://fundart.com.br/evento/musica-na-praca-com-retreta-maestro-pedrinho-16/
LOCATION:Praça Exaltação da Santa Cruz\, Centro\, Ubatuba\, São Paulo\, 11680-000\, Brasil
CATEGORIES:Banda Lira Padre Anchieta,Música na Praça,Retreta Maestro Pedrinho
ATTACH;FMTTYPE=image/jpeg:https://fundart.com.br/wp-content/uploads/2018/12/retreta-maestro-pedrinho1.jpg
END:VEVENT
END:VCALENDAR