BEGIN:VCALENDAR
VERSION:2.0
PRODID:-//FundArt - ECPv5.12.2//NONSGML v1.0//EN
CALSCALE:GREGORIAN
METHOD:PUBLISH
X-WR-CALNAME:FundArt
X-ORIGINAL-URL:https://fundart.com.br
X-WR-CALDESC:Eventos para FundArt
BEGIN:VTIMEZONE
TZID:America/Sao_Paulo
BEGIN:STANDARD
TZOFFSETFROM:-0200
TZOFFSETTO:-0300
TZNAME:-03
DTSTART:20180218T020000
END:STANDARD
BEGIN:DAYLIGHT
TZOFFSETFROM:-0300
TZOFFSETTO:-0200
TZNAME:-02
DTSTART:20181104T030000
END:DAYLIGHT
END:VTIMEZONE
BEGIN:VEVENT
DTSTART;TZID=America/Sao_Paulo:20181006T203000
DTEND;TZID=America/Sao_Paulo:20181006T203000
DTSTAMP:20260424T110033
CREATED:20181004T194840Z
LAST-MODIFIED:20181004T194840Z
UID:25944-1538857800-1538857800@fundart.com.br
SUMMARY:Música na Praça com a Retreta Maestro Pedrinho
DESCRIPTION:Música na Praça com a Retreta Maestro Pedrinho\nLocal: Praça Exaltação da Santa Cruz \nData: 06 de outubro – sábado \nHorário: 20h30
URL:https://fundart.com.br/evento/musica-na-praca-com-retreta-maestro-pedrinho-12/
LOCATION:Praça Exaltação à Santa Cruz\, Ubatuba
CATEGORIES:Banda Lira Padre Anchieta
ATTACH;FMTTYPE=image/jpeg:https://fundart.com.br/wp-content/uploads/2017/11/retreta-maestro-pedrinho.jpg
END:VEVENT
END:VCALENDAR