BEGIN:VCALENDAR
VERSION:2.0
PRODID:-//FundArt - ECPv5.12.2//NONSGML v1.0//EN
CALSCALE:GREGORIAN
METHOD:PUBLISH
X-WR-CALNAME:FundArt
X-ORIGINAL-URL:https://fundart.com.br
X-WR-CALDESC:Eventos para FundArt
BEGIN:VTIMEZONE
TZID:America/Sao_Paulo
BEGIN:STANDARD
TZOFFSETFROM:-0200
TZOFFSETTO:-0300
TZNAME:-03
DTSTART:20190217T020000
END:STANDARD
END:VTIMEZONE
BEGIN:VEVENT
DTSTART;TZID=America/Sao_Paulo:20190526T203000
DTEND;TZID=America/Sao_Paulo:20190526T203000
DTSTAMP:20260422T022313
CREATED:20190502T145420Z
LAST-MODIFIED:20190502T145420Z
UID:27825-1558902600-1558902600@fundart.com.br
SUMMARY:Música na Praça com o Grupo Free Som
DESCRIPTION:
URL:https://fundart.com.br/evento/musica-na-praca-com-o-grupo-free-som-19/
LOCATION:Praça Exaltação da Santa Cruz\, Centro\, Ubatuba
CATEGORIES:Free Som
ATTACH;FMTTYPE=image/jpeg:https://fundart.com.br/wp-content/uploads/2017/10/Free-Som.jpg
END:VEVENT
END:VCALENDAR