BEGIN:VCALENDAR
VERSION:2.0
PRODID:-//FundArt - ECPv5.12.2//NONSGML v1.0//EN
CALSCALE:GREGORIAN
METHOD:PUBLISH
X-WR-CALNAME:FundArt
X-ORIGINAL-URL:https://fundart.com.br
X-WR-CALDESC:Eventos para FundArt
BEGIN:VTIMEZONE
TZID:America/Sao_Paulo
BEGIN:STANDARD
TZOFFSETFROM:-0200
TZOFFSETTO:-0300
TZNAME:-03
DTSTART:20190217T020000
END:STANDARD
END:VTIMEZONE
BEGIN:VEVENT
DTSTART;TZID=America/Sao_Paulo:20190224T203000
DTEND;TZID=America/Sao_Paulo:20190224T203000
DTSTAMP:20260422T081640
CREATED:20190131T112011Z
LAST-MODIFIED:20190131T112011Z
UID:26838-1551040200-1551040200@fundart.com.br
SUMMARY:Música na Praça com o Grupo Free Som
DESCRIPTION:Música na Praça com o Grupo Free Som\nData: 24 de fevereiro – domingo\nHorário: 20h30\nLocal: Praça Exaltação da Santa Cruz
URL:https://fundart.com.br/evento/musica-na-praca-com-o-grupo-free-som-16/
LOCATION:Praça Exaltação da Santa Cruz\, Centro\, Ubatuba\, 11680-000
CATEGORIES:Banda Lira Padre Anchieta,Free Som,Música na Praça
ATTACH;FMTTYPE=image/jpeg:https://fundart.com.br/wp-content/uploads/2017/10/Free-Som.jpg
END:VEVENT
END:VCALENDAR