BEGIN:VCALENDAR
VERSION:2.0
PRODID:-//FundArt - ECPv5.12.2//NONSGML v1.0//EN
CALSCALE:GREGORIAN
METHOD:PUBLISH
X-WR-CALNAME:FundArt
X-ORIGINAL-URL:https://fundart.com.br
X-WR-CALDESC:Eventos para FundArt
BEGIN:VTIMEZONE
TZID:America/Sao_Paulo
BEGIN:STANDARD
TZOFFSETFROM:-0200
TZOFFSETTO:-0300
TZNAME:-03
DTSTART:20180218T020000
END:STANDARD
BEGIN:DAYLIGHT
TZOFFSETFROM:-0300
TZOFFSETTO:-0200
TZNAME:-02
DTSTART:20181104T030000
END:DAYLIGHT
END:VTIMEZONE
BEGIN:VEVENT
DTSTART;TZID=America/Sao_Paulo:20181013T203000
DTEND;TZID=America/Sao_Paulo:20181013T203000
DTSTAMP:20260424T110122
CREATED:20181004T202406Z
LAST-MODIFIED:20181004T202622Z
UID:25949-1539462600-1539462600@fundart.com.br
SUMMARY:Música na Praça com a Banda Lira Padre Anchieta
DESCRIPTION:Música na Praça com a Banda Lira Padre Anchieta\nData: 13 de outubro – sábado\nLocal: Praça Exaltação a Santa Cruz\nHorário: 20h30
URL:https://fundart.com.br/evento/musica-na-praca-com-banda-lira-padre-anchieta-8/
LOCATION:Praça Exaltação à Santa Cruz\, Ubatuba
CATEGORIES:Banda Lira Padre Anchieta
ATTACH;FMTTYPE=image/jpeg:https://fundart.com.br/wp-content/uploads/2018/01/FOTO-BANDA-LIRA-2.jpg
END:VEVENT
END:VCALENDAR