BEGIN:VCALENDAR
VERSION:2.0
PRODID:-//FundArt - ECPv5.12.2//NONSGML v1.0//EN
CALSCALE:GREGORIAN
METHOD:PUBLISH
X-WR-CALNAME:FundArt
X-ORIGINAL-URL:https://fundart.com.br
X-WR-CALDESC:Eventos para FundArt
BEGIN:VTIMEZONE
TZID:America/Sao_Paulo
BEGIN:STANDARD
TZOFFSETFROM:-0200
TZOFFSETTO:-0300
TZNAME:-03
DTSTART:20190217T020000
END:STANDARD
END:VTIMEZONE
BEGIN:VEVENT
DTSTART;TZID=America/Sao_Paulo:20191207T200000
DTEND;TZID=America/Sao_Paulo:20191207T200000
DTSTAMP:20260421T161707
CREATED:20191203T144754Z
LAST-MODIFIED:20191203T144857Z
UID:29671-1575748800-1575748800@fundart.com.br
SUMMARY:Música na Praça com a Retreta Maestro Pedrinho
DESCRIPTION:
URL:https://fundart.com.br/evento/musica-na-praca-com-a-retreta-maestro-pedrinho/
LOCATION:Praça Exaltação da Santa Cruz\, Centro\, Ubatuba\, 11680-000
CATEGORIES:Música na Praça,Retreta Maestro Pedrinho
END:VEVENT
END:VCALENDAR