BEGIN:VCALENDAR
VERSION:2.0
PRODID:-//FundArt - ECPv5.12.2//NONSGML v1.0//EN
CALSCALE:GREGORIAN
METHOD:PUBLISH
X-WR-CALNAME:FundArt
X-ORIGINAL-URL:https://fundart.com.br
X-WR-CALDESC:Eventos para FundArt
BEGIN:VTIMEZONE
TZID:America/Sao_Paulo
BEGIN:STANDARD
TZOFFSETFROM:-0200
TZOFFSETTO:-0300
TZNAME:-03
DTSTART:20190217T020000
END:STANDARD
END:VTIMEZONE
BEGIN:VEVENT
DTSTART;TZID=America/Sao_Paulo:20191221T203000
DTEND;TZID=America/Sao_Paulo:20191221T203000
DTSTAMP:20260419T172738
CREATED:20191203T151625Z
LAST-MODIFIED:20191203T151625Z
UID:29706-1576960200-1576960200@fundart.com.br
SUMMARY:Música na Praça com a Banda Lira Padre Anchieta
DESCRIPTION:
URL:https://fundart.com.br/evento/musica-na-praca-com-a-banda-lira-padre-anchieta/
LOCATION:Praça Exaltação da Santa Cruz\, Centro\, Ubatuba\, 11680-000
CATEGORIES:Banda Lira Padre Anchieta,Música na Praça
END:VEVENT
END:VCALENDAR