BEGIN:VCALENDAR
VERSION:2.0
PRODID:-//FundArt - ECPv5.12.2//NONSGML v1.0//EN
CALSCALE:GREGORIAN
METHOD:PUBLISH
X-WR-CALNAME:FundArt
X-ORIGINAL-URL:https://fundart.com.br
X-WR-CALDESC:Eventos para FundArt
BEGIN:VTIMEZONE
TZID:America/Sao_Paulo
BEGIN:STANDARD
TZOFFSETFROM:-0200
TZOFFSETTO:-0300
TZNAME:-03
DTSTART:20180218T020000
END:STANDARD
BEGIN:DAYLIGHT
TZOFFSETFROM:-0300
TZOFFSETTO:-0200
TZNAME:-02
DTSTART:20181104T030000
END:DAYLIGHT
END:VTIMEZONE
BEGIN:VEVENT
DTSTART;TZID=America/Sao_Paulo:20180529T080000
DTEND;TZID=America/Sao_Paulo:20180529T170000
DTSTAMP:20260424T170037
CREATED:20180529T162915Z
LAST-MODIFIED:20180529T162915Z
UID:24357-1527580800-1527613200@fundart.com.br
SUMMARY:Música na praça
DESCRIPTION:O grupo Free Som se apresenta\, às 20h30\, na praça Exaltação à Santa Cruz.
URL:https://fundart.com.br/evento/musica-na-praca-3/
CATEGORIES:Banda Lira Padre Anchieta,Free Som,FundArt,Música na Praça
ATTACH;FMTTYPE=image/jpeg:https://fundart.com.br/wp-content/uploads/2017/10/Free-Som.jpg
END:VEVENT
END:VCALENDAR