BEGIN:VCALENDAR
VERSION:2.0
PRODID:-//FundArt - ECPv5.12.2//NONSGML v1.0//EN
CALSCALE:GREGORIAN
METHOD:PUBLISH
X-WR-CALNAME:FundArt
X-ORIGINAL-URL:https://fundart.com.br
X-WR-CALDESC:Eventos para FundArt
BEGIN:VTIMEZONE
TZID:America/Sao_Paulo
BEGIN:STANDARD
TZOFFSETFROM:-0200
TZOFFSETTO:-0300
TZNAME:-03
DTSTART:20190217T020000
END:STANDARD
END:VTIMEZONE
BEGIN:VEVENT
DTSTART;TZID=America/Sao_Paulo:20190802T190000
DTEND;TZID=America/Sao_Paulo:20190802T190000
DTSTAMP:20260421T212553
CREATED:20190801T114232Z
LAST-MODIFIED:20190801T114232Z
UID:28603-1564772400-1564772400@fundart.com.br
SUMMARY:Lançamento “O Livro da Terra” de Santiago Bernardes
DESCRIPTION:Na sexta-feira\, 02 de agosto\, às 19h\, Santiago Bernardes lançará\, na Biblioteca Municipal de Ubatuba\, sua terceira obra: “O Livro da Terra”\, um manifesto poético em defesa dos povos do campo e das práticas ancestrais de agricultura.
URL:https://fundart.com.br/evento/lancamento-o-livro-da-terra-de-santiago-bernardes/
LOCATION:Biblioteca Pública Municipal\, Praça 13 de Maio - centro\, Ubatuba\, Brasil
END:VEVENT
END:VCALENDAR