BEGIN:VCALENDAR
VERSION:2.0
PRODID:-//FundArt - ECPv5.12.2//NONSGML v1.0//EN
CALSCALE:GREGORIAN
METHOD:PUBLISH
X-WR-CALNAME:FundArt
X-ORIGINAL-URL:https://fundart.com.br
X-WR-CALDESC:Eventos para FundArt
BEGIN:VTIMEZONE
TZID:America/Sao_Paulo
BEGIN:STANDARD
TZOFFSETFROM:-0200
TZOFFSETTO:-0300
TZNAME:-03
DTSTART:20180218T020000
END:STANDARD
BEGIN:DAYLIGHT
TZOFFSETFROM:-0300
TZOFFSETTO:-0200
TZNAME:-02
DTSTART:20181104T030000
END:DAYLIGHT
END:VTIMEZONE
BEGIN:VEVENT
DTSTART;TZID=America/Sao_Paulo:20180913T163000
DTEND;TZID=America/Sao_Paulo:20180913T180000
DTSTAMP:20260424T124540
CREATED:20180904T203204Z
LAST-MODIFIED:20180904T203204Z
UID:25608-1536856200-1536861600@fundart.com.br
SUMMARY:Lançamento do livro infantil “Depois da chegada da arca de Noé”
DESCRIPTION:A Biblioteca Pública Municipal “Ateneu Ubatubense” receberá no dia 13 de setembro\, às 16h30\, a escritora e ilustradora Rosana Magalhães Gaeta\, para o lançamento do livro infantil “Depois da chegada da arca de Noé”. \nA contação da história pela própria autora acontecerá no espaço Conecta Biblioteca\, com direito a pipoca quentinha e\, em seguida\, será feita a venda da obra e uma sessão de autógrafos. \nServiço\nLançamento do livro infantil “Depois da chegada da arca de Noé”\nData: 13 de setembro\nHorário: 16h30\nLocal: Biblioteca Pública Municipal “Ateneu Ubatubense”\nEndereço: Praça 13 de Maio\, 52 – Centro
URL:https://fundart.com.br/evento/lancamento-do-livro-infantil-depois-da-chegada-da-arca-de-noe/
LOCATION:Biblioteca Pública Municipal\, Praça 13 de Maio - centro\, Ubatuba\, Brasil
CATEGORIES:Biblioteca,Literatura
ATTACH;FMTTYPE=image/jpeg:https://fundart.com.br/wp-content/uploads/2018/09/arte-rosana-gaeta-final-aprovada.jpg
END:VEVENT
END:VCALENDAR