BEGIN:VCALENDAR
VERSION:2.0
PRODID:-//FundArt - ECPv5.12.2//NONSGML v1.0//EN
CALSCALE:GREGORIAN
METHOD:PUBLISH
X-WR-CALNAME:FundArt
X-ORIGINAL-URL:https://fundart.com.br
X-WR-CALDESC:Eventos para FundArt
BEGIN:VTIMEZONE
TZID:America/Sao_Paulo
BEGIN:STANDARD
TZOFFSETFROM:-0200
TZOFFSETTO:-0300
TZNAME:-03
DTSTART:20190217T020000
END:STANDARD
END:VTIMEZONE
BEGIN:VEVENT
DTSTART;TZID=America/Sao_Paulo:20191012T160000
DTEND;TZID=America/Sao_Paulo:20191012T160000
DTSTAMP:20260421T191252
CREATED:20191003T132923Z
LAST-MODIFIED:20191003T132923Z
UID:29135-1570896000-1570896000@fundart.com.br
SUMMARY:Histórias EnCantadas (Sarambeque)
DESCRIPTION:4º FePET – Festival dos Pequenos Espaços Teatrais
URL:https://fundart.com.br/evento/historias-encantadas-sarambeque/
LOCATION:E.E. Áurea M. Rachou\, Rua Padre João Bayle - Sertão da Quina
CATEGORIES:FePET
END:VEVENT
END:VCALENDAR