BEGIN:VCALENDAR
VERSION:2.0
PRODID:-//FundArt - ECPv5.12.2//NONSGML v1.0//EN
CALSCALE:GREGORIAN
METHOD:PUBLISH
X-WR-CALNAME:FundArt
X-ORIGINAL-URL:https://fundart.com.br
X-WR-CALDESC:Eventos para FundArt
BEGIN:VTIMEZONE
TZID:America/Sao_Paulo
BEGIN:STANDARD
TZOFFSETFROM:-0200
TZOFFSETTO:-0300
TZNAME:-03
DTSTART:20180218T020000
END:STANDARD
BEGIN:DAYLIGHT
TZOFFSETFROM:-0300
TZOFFSETTO:-0200
TZNAME:-02
DTSTART:20181104T030000
END:DAYLIGHT
END:VTIMEZONE
BEGIN:VEVENT
DTSTART;TZID=America/Sao_Paulo:20180331T190000
DTEND;TZID=America/Sao_Paulo:20180331T200000
DTSTAMP:20260424T195226
CREATED:20180305T172148Z
LAST-MODIFIED:20180321T130334Z
UID:23207-1522522800-1522526400@fundart.com.br
SUMMARY:Apresentação do Coro da Lira na Igreja Matriz
DESCRIPTION:Apresentação do Coro da Lira \nLocal: Igreja Matriz (Paróquia Exaltação da Santa Cruz) \nData: 31/03 – Sábado \nHorário: 19h
URL:https://fundart.com.br/evento/grupo-retreta-maestro-pedrinho-musica-na-praca/
LOCATION:Igreja Matriz\, Centro\, Ubatuba\, Brasil
CATEGORIES:Banda Lira Padre Anchieta,Coro da Lira,Música na Praça
ATTACH;FMTTYPE=image/jpeg:https://fundart.com.br/wp-content/uploads/2017/10/coro-da-lira.jpg
END:VEVENT
END:VCALENDAR