BEGIN:VCALENDAR
VERSION:2.0
PRODID:-//FundArt - ECPv5.12.2//NONSGML v1.0//EN
CALSCALE:GREGORIAN
METHOD:PUBLISH
X-WR-CALNAME:FundArt
X-ORIGINAL-URL:https://fundart.com.br
X-WR-CALDESC:Eventos para FundArt
BEGIN:VTIMEZONE
TZID:America/Sao_Paulo
BEGIN:STANDARD
TZOFFSETFROM:-0200
TZOFFSETTO:-0300
TZNAME:-03
DTSTART:20180218T020000
END:STANDARD
BEGIN:DAYLIGHT
TZOFFSETFROM:-0300
TZOFFSETTO:-0200
TZNAME:-02
DTSTART:20181104T030000
END:DAYLIGHT
END:VTIMEZONE
BEGIN:VEVENT
DTSTART;TZID=America/Sao_Paulo:20181003T200000
DTEND;TZID=America/Sao_Paulo:20181003T200000
DTSTAMP:20260424T110429
CREATED:20180927T135847Z
LAST-MODIFIED:20180927T135856Z
UID:25867-1538596800-1538596800@fundart.com.br
SUMMARY:Grupo Letras e Sons traz show “Tambores de Minas” para o Teatro Municipal de Ubatuba
DESCRIPTION:No mês de aniversário da cidade\, Ubatuba recebe de presente o show “Tambores de Minas”\, do grupo mineiro Letras e Sons\, que se apresentará no Teatro Municipal na próxima quarta-feira\, 3 de outubro\, às 20 horas. A entrada é livre e gratuita e os ingressos devem ser retirados diretamente na bilheteria do evento uma hora antes do início.
URL:https://fundart.com.br/evento/grupo-letras-e-sons-traz-show-tambores-de-minas-para-o-teatro-municipal-de-ubatuba/
CATEGORIES:Música,Teatro Municipal de Ubatuba
ATTACH;FMTTYPE=image/jpeg:https://fundart.com.br/wp-content/uploads/2018/09/0926-banda-letras-e-sons2.jpg
END:VEVENT
END:VCALENDAR