BEGIN:VCALENDAR
VERSION:2.0
PRODID:-//FundArt - ECPv5.12.2//NONSGML v1.0//EN
CALSCALE:GREGORIAN
METHOD:PUBLISH
X-WR-CALNAME:FundArt
X-ORIGINAL-URL:https://fundart.com.br
X-WR-CALDESC:Eventos para FundArt
BEGIN:VTIMEZONE
TZID:America/Sao_Paulo
BEGIN:STANDARD
TZOFFSETFROM:-0200
TZOFFSETTO:-0300
TZNAME:-03
DTSTART:20190217T020000
END:STANDARD
END:VTIMEZONE
BEGIN:VEVENT
DTSTART;TZID=America/Sao_Paulo:20190902T133000
DTEND;TZID=America/Sao_Paulo:20190902T133000
DTSTAMP:20260421T203604
CREATED:20190806T122452Z
LAST-MODIFIED:20190806T122452Z
UID:28650-1567431000-1567431000@fundart.com.br
SUMMARY:Grupo Free Som - Reunião Pedagógica |Secretaria da educação
DESCRIPTION:
URL:https://fundart.com.br/evento/grupo-free-som-reuniao-pedagogica-secretaria-da-educacao/
LOCATION:Auditório da escola Anchieta
END:VEVENT
END:VCALENDAR