BEGIN:VCALENDAR
VERSION:2.0
PRODID:-//FundArt - ECPv5.12.2//NONSGML v1.0//EN
CALSCALE:GREGORIAN
METHOD:PUBLISH
X-WR-CALNAME:FundArt
X-ORIGINAL-URL:https://fundart.com.br
X-WR-CALDESC:Eventos para FundArt
BEGIN:VTIMEZONE
TZID:America/Sao_Paulo
BEGIN:STANDARD
TZOFFSETFROM:-0200
TZOFFSETTO:-0300
TZNAME:-03
DTSTART:20180218T020000
END:STANDARD
BEGIN:DAYLIGHT
TZOFFSETFROM:-0300
TZOFFSETTO:-0200
TZNAME:-02
DTSTART:20181104T030000
END:DAYLIGHT
END:VTIMEZONE
BEGIN:VEVENT
DTSTART;TZID=America/Sao_Paulo:20180310T203000
DTEND;TZID=America/Sao_Paulo:20180310T203000
DTSTAMP:20260424T223027
CREATED:20180305T143623Z
LAST-MODIFIED:20180309T124244Z
UID:23198-1520713800-1520713800@fundart.com.br
SUMMARY:Grupo Free Som ”Música na Praça”
DESCRIPTION:Local: Praça Exaltação à Santa Cruz\nHorário: 20h30
URL:https://fundart.com.br/evento/grupo-free-som-musica-na-praca/
LOCATION:Praça Exaltação à Santa Cruz\, Ubatuba
CATEGORIES:Free Som,Música na Praça
ATTACH;FMTTYPE=image/jpeg:https://fundart.com.br/wp-content/uploads/2017/10/Free-Som.jpg
END:VEVENT
END:VCALENDAR