BEGIN:VCALENDAR
VERSION:2.0
PRODID:-//FundArt - ECPv5.12.2//NONSGML v1.0//EN
CALSCALE:GREGORIAN
METHOD:PUBLISH
X-WR-CALNAME:FundArt
X-ORIGINAL-URL:https://fundart.com.br
X-WR-CALDESC:Eventos para FundArt
BEGIN:VTIMEZONE
TZID:America/Sao_Paulo
BEGIN:STANDARD
TZOFFSETFROM:-0200
TZOFFSETTO:-0300
TZNAME:-03
DTSTART:20180218T020000
END:STANDARD
BEGIN:DAYLIGHT
TZOFFSETFROM:-0300
TZOFFSETTO:-0200
TZNAME:-02
DTSTART:20181104T030000
END:DAYLIGHT
END:VTIMEZONE
BEGIN:VEVENT
DTSTART;TZID=America/Sao_Paulo:20180324T203000
DTEND;TZID=America/Sao_Paulo:20180324T203000
DTSTAMP:20260424T210703
CREATED:20180305T144313Z
LAST-MODIFIED:20180321T125839Z
UID:23203-1521923400-1521923400@fundart.com.br
SUMMARY:Banda Lira Padre Anchieta apresenta: "Lira por Elas"
DESCRIPTION:“Lira por Elas” celebra o mês da mulher\n\nEm homenagem ao mês da mulher\, a Banda Lira Padre Anchieta\, juntamente com a Prefeitura Municipal de Ubatuba e FundArt\, prepararam um espetáculo especial todo voltado para elas. \nIncluída tradicionalmente na agenda oficial da banda\, a apresentação “Lira por Elas” busca celebrar  a vida\, as escolhas felizes\, a ternura\, enfim\, a celebração da essência do feminino. \nSegundo o maestro Amarildo Da Hora\, o repertório foi minuciosamente escolhido para enaltecer ainda mais a influência das mulheres na música e em todas as dimensões da sociedade. \nA apresentação irá acontecer na Praça Exaltação da Santa Cruz\, em frente à Igreja Matriz\, no próximo sábado (24)\, a partir das 20h30. \nSERVIÇO: \nBanda Lira Padre Anchieta apresenta “Lira por Elas’ \nLocal: Praça Exaltação da Santa Cruz\, Centro \nData: 24/03 (sábado) \nHorário: 20h30 \nRealização: Associação Lira Padre Anchieta\, FundArt e Prefeitura Municipal de Ubatuba \nApoio: Incorporadora Saint Martin \nObservação: Em caso de chuva\, o evento será transferido para o Sobradão do Porto – Praça Anchieta\, Centro. \n 
URL:https://fundart.com.br/evento/grupo-free-som-musica-na-praca-2/
LOCATION:Praça Exaltação à Santa Cruz
CATEGORIES:Banda Lira Padre Anchieta,Dia Internacional da Mulher
ATTACH;FMTTYPE=image/jpeg:https://fundart.com.br/wp-content/uploads/2018/01/FOTO-BANDA-LIRA-2.jpg
END:VEVENT
END:VCALENDAR