BEGIN:VCALENDAR
VERSION:2.0
PRODID:-//FundArt - ECPv5.12.2//NONSGML v1.0//EN
CALSCALE:GREGORIAN
METHOD:PUBLISH
X-WR-CALNAME:FundArt
X-ORIGINAL-URL:https://fundart.com.br
X-WR-CALDESC:Eventos para FundArt
BEGIN:VTIMEZONE
TZID:America/Sao_Paulo
BEGIN:STANDARD
TZOFFSETFROM:-0200
TZOFFSETTO:-0300
TZNAME:-03
DTSTART:20190217T020000
END:STANDARD
END:VTIMEZONE
BEGIN:VEVENT
DTSTART;TZID=America/Sao_Paulo:20190330T203000
DTEND;TZID=America/Sao_Paulo:20190330T203000
DTSTAMP:20260424T054157
CREATED:20190219T130116Z
LAST-MODIFIED:20190220T131155Z
UID:27068-1553977800-1553977800@fundart.com.br
SUMMARY:Free som
DESCRIPTION:Especial ” Lira por elas”
URL:https://fundart.com.br/evento/free-som/
LOCATION:Praça exaltação da santa Cruz
ATTACH;FMTTYPE=image/jpeg:https://fundart.com.br/wp-content/uploads/2017/10/Free-Som.jpg
END:VEVENT
END:VCALENDAR