BEGIN:VCALENDAR
VERSION:2.0
PRODID:-//FundArt - ECPv5.12.2//NONSGML v1.0//EN
CALSCALE:GREGORIAN
METHOD:PUBLISH
X-WR-CALNAME:FundArt
X-ORIGINAL-URL:https://fundart.com.br
X-WR-CALDESC:Eventos para FundArt
BEGIN:VTIMEZONE
TZID:America/Sao_Paulo
BEGIN:STANDARD
TZOFFSETFROM:-0200
TZOFFSETTO:-0300
TZNAME:-03
DTSTART:20190217T020000
END:STANDARD
END:VTIMEZONE
BEGIN:VEVENT
DTSTART;TZID=America/Sao_Paulo:20190824T080000
DTEND;TZID=America/Sao_Paulo:20190824T080000
DTSTAMP:20260421T225742
CREATED:20190814T142604Z
LAST-MODIFIED:20190821T145204Z
UID:28726-1566633600-1566633600@fundart.com.br
SUMMARY:Peregrinação da Folia do Divino: Vila Poca; Vila Rolim e Cambucá
DESCRIPTION:
URL:https://fundart.com.br/evento/folia-do-divino-no-bairro-do-ubatumirim-p-vila-poca/
CATEGORIES:Cultura,Folia do Divino Espírito Santo,FundArt
END:VEVENT
END:VCALENDAR