BEGIN:VCALENDAR
VERSION:2.0
PRODID:-//FundArt - ECPv5.12.2//NONSGML v1.0//EN
CALSCALE:GREGORIAN
METHOD:PUBLISH
X-WR-CALNAME:FundArt
X-ORIGINAL-URL:https://fundart.com.br
X-WR-CALDESC:Eventos para FundArt
BEGIN:VTIMEZONE
TZID:America/Sao_Paulo
BEGIN:STANDARD
TZOFFSETFROM:-0200
TZOFFSETTO:-0300
TZNAME:-03
DTSTART:20190217T020000
END:STANDARD
END:VTIMEZONE
BEGIN:VEVENT
DTSTART;TZID=America/Sao_Paulo:20190601T080000
DTEND;TZID=America/Sao_Paulo:20190602T080000
DTSTAMP:20260422T003455
CREATED:20190521T185408Z
LAST-MODIFIED:20190521T185533Z
UID:27936-1559376000-1559462400@fundart.com.br
SUMMARY:Folia do Divino no bairro do Sertão da Quina
DESCRIPTION:
URL:https://fundart.com.br/evento/folia-do-divino-no-bairro-do-sertao-da-quina/
ATTACH;FMTTYPE=image/jpeg:https://fundart.com.br/wp-content/uploads/2019/05/divino-teste-face.jpg
END:VEVENT
END:VCALENDAR