BEGIN:VCALENDAR
VERSION:2.0
PRODID:-//FundArt - ECPv5.12.2//NONSGML v1.0//EN
CALSCALE:GREGORIAN
METHOD:PUBLISH
X-WR-CALNAME:FundArt
X-ORIGINAL-URL:https://fundart.com.br
X-WR-CALDESC:Eventos para FundArt
BEGIN:VTIMEZONE
TZID:America/Sao_Paulo
BEGIN:STANDARD
TZOFFSETFROM:-0200
TZOFFSETTO:-0300
TZNAME:-03
DTSTART:20190217T020000
END:STANDARD
END:VTIMEZONE
BEGIN:VEVENT
DTSTART;TZID=America/Sao_Paulo:20190809T170000
DTEND;TZID=America/Sao_Paulo:20190809T170000
DTSTAMP:20260421T212435
CREATED:20190530T171832Z
LAST-MODIFIED:20190807T183620Z
UID:28075-1565370000-1565370000@fundart.com.br
SUMMARY:Lançamento e leitura do livro "Tiê"
DESCRIPTION:
URL:https://fundart.com.br/evento/folia-do-divino-no-bairro-da-almada/
LOCATION:Biblioteca Pública Municipal\, Praça 13 de Maio - centro\, Ubatuba\, Brasil
CATEGORIES:Biblioteca Pública Municipal "Ateneu Ubatubense",Literatura
ATTACH;FMTTYPE=image/png:https://fundart.com.br/wp-content/uploads/2019/08/lançamento-biblioteca-2-1.png
END:VEVENT
END:VCALENDAR