BEGIN:VCALENDAR
VERSION:2.0
PRODID:-//FundArt - ECPv5.12.2//NONSGML v1.0//EN
CALSCALE:GREGORIAN
METHOD:PUBLISH
X-WR-CALNAME:FundArt
X-ORIGINAL-URL:https://fundart.com.br
X-WR-CALDESC:Eventos para FundArt
BEGIN:VTIMEZONE
TZID:America/Sao_Paulo
BEGIN:STANDARD
TZOFFSETFROM:-0200
TZOFFSETTO:-0300
TZNAME:-03
DTSTART:20180218T020000
END:STANDARD
BEGIN:DAYLIGHT
TZOFFSETFROM:-0300
TZOFFSETTO:-0200
TZNAME:-02
DTSTART:20181104T030000
END:DAYLIGHT
END:VTIMEZONE
BEGIN:VEVENT
DTSTART;TZID=America/Sao_Paulo:20181129T200000
DTEND;TZID=America/Sao_Paulo:20181202T200000
DTSTAMP:20260423T082416
CREATED:20181113T113246Z
LAST-MODIFIED:20181113T113359Z
UID:26192-1543521600-1543780800@fundart.com.br
SUMMARY:Festival " Circo Musical"
DESCRIPTION:A primeira edição do Festival Circo Musical será realizada de 29/11 a 02/12\, no Circo Teatro Celeste\, situado na Gaiato\, no bairro Ipiranguinha. \nO evento é produzido pela Gaiato em parceria com a Paraquedas Produções\, e busca descentralizar a realização de eventos musicais na cidade\, além de movimentar a cena musical e incentivar a criação de público para os músicos locais.
URL:https://fundart.com.br/evento/festival-circo-musical/
ATTACH;FMTTYPE=image/jpeg:https://fundart.com.br/wp-content/uploads/2018/11/cartaz-festival2.jpg
END:VEVENT
END:VCALENDAR