BEGIN:VCALENDAR
VERSION:2.0
PRODID:-//FundArt - ECPv5.12.2//NONSGML v1.0//EN
CALSCALE:GREGORIAN
METHOD:PUBLISH
X-WR-CALNAME:FundArt
X-ORIGINAL-URL:https://fundart.com.br
X-WR-CALDESC:Eventos para FundArt
BEGIN:VTIMEZONE
TZID:America/Sao_Paulo
BEGIN:STANDARD
TZOFFSETFROM:-0200
TZOFFSETTO:-0300
TZNAME:-03
DTSTART:20190217T020000
END:STANDARD
END:VTIMEZONE
BEGIN:VEVENT
DTSTART;TZID=America/Sao_Paulo:20191228T180000
DTEND;TZID=America/Sao_Paulo:20191228T230000
DTSTAMP:20260419T155517
CREATED:20191203T151751Z
LAST-MODIFIED:20191203T151751Z
UID:29708-1577556000-1577574000@fundart.com.br
SUMMARY:Feira de Artes da FUNDART l Exposição e venda de produtos artesanais e criativos
DESCRIPTION:Setorial de Artesanato da FUNDART
URL:https://fundart.com.br/evento/feira-de-artes-da-fundart-l-exposicao-e-venda-de-produtos-artesanais-e-criativos-4/
LOCATION:Praça Anchieta\, Centro\, Ubatuba\, 11680-000
CATEGORIES:Artesanato
END:VEVENT
END:VCALENDAR