BEGIN:VCALENDAR
VERSION:2.0
PRODID:-//FundArt - ECPv5.12.2//NONSGML v1.0//EN
CALSCALE:GREGORIAN
METHOD:PUBLISH
X-WR-CALNAME:FundArt
X-ORIGINAL-URL:https://fundart.com.br
X-WR-CALDESC:Eventos para FundArt
BEGIN:VTIMEZONE
TZID:America/Sao_Paulo
BEGIN:STANDARD
TZOFFSETFROM:-0200
TZOFFSETTO:-0300
TZNAME:-03
DTSTART:20180218T020000
END:STANDARD
BEGIN:DAYLIGHT
TZOFFSETFROM:-0300
TZOFFSETTO:-0200
TZNAME:-02
DTSTART:20181104T030000
END:DAYLIGHT
END:VTIMEZONE
BEGIN:VEVENT
DTSTART;TZID=America/Sao_Paulo:20181214T180000
DTEND;TZID=America/Sao_Paulo:20181216T230000
DTSTAMP:20260422T213520
CREATED:20181218T113830Z
LAST-MODIFIED:20181218T165920Z
UID:26476-1544810400-1545001200@fundart.com.br
SUMMARY:Exposição e Venda de Artesanato
DESCRIPTION:Exposição e venda de peças do Grupo Setorial de Artesanato da FundArt\nData: 14\, 15 e 16 de dezembro\nHorário: das 18h às 23h\nLocal: Praça Anchieta – Centro (em frente ao Sobradão do Porto)
URL:https://fundart.com.br/evento/exposicao-e-venda-de-artesanato/
LOCATION:Sobradão do Porto\, Praça Anchieta\, 38 - Centro\, Ubatuba
CATEGORIES:Artesanato,Grupo Setorial de Artesanato
ATTACH;FMTTYPE=image/jpeg:https://fundart.com.br/wp-content/uploads/2017/12/artesanato1.jpg
END:VEVENT
END:VCALENDAR