BEGIN:VCALENDAR
VERSION:2.0
PRODID:-//FundArt - ECPv5.12.2//NONSGML v1.0//EN
CALSCALE:GREGORIAN
METHOD:PUBLISH
X-WR-CALNAME:FundArt
X-ORIGINAL-URL:https://fundart.com.br
X-WR-CALDESC:Eventos para FundArt
BEGIN:VTIMEZONE
TZID:America/Sao_Paulo
BEGIN:STANDARD
TZOFFSETFROM:-0200
TZOFFSETTO:-0300
TZNAME:-03
DTSTART:20190217T020000
END:STANDARD
END:VTIMEZONE
BEGIN:VEVENT
DTSTART;TZID=America/Sao_Paulo:20190125T190000
DTEND;TZID=America/Sao_Paulo:20190127T000000
DTSTAMP:20260422T081809
CREATED:20190116T122624Z
LAST-MODIFIED:20190116T122624Z
UID:26673-1548442800-1548547200@fundart.com.br
SUMMARY:Exposição e venda de artesanato do Grupo Setorial
DESCRIPTION:Exposição e venda de peças do Grupo Setorial de Artesanato da FundArt\nData: 25\, 26 e 27 de janeiro\nHorário: das 19h às 00h\nLocal: Praça Anchieta – Centro (em frente ao Sobradão do Porto)
URL:https://fundart.com.br/evento/exposicao-e-venda-de-artesanato-do-grupo-setorial-2/
LOCATION:Praça Anchieta\, Centro\, Ubatuba\, 11680-000
CATEGORIES:Artesanato,Grupo Setorial de Artesanato
ATTACH;FMTTYPE=image/jpeg:https://fundart.com.br/wp-content/uploads/2017/12/artesanato1.jpg
END:VEVENT
END:VCALENDAR