BEGIN:VCALENDAR
VERSION:2.0
PRODID:-//FundArt - ECPv5.12.2//NONSGML v1.0//EN
CALSCALE:GREGORIAN
METHOD:PUBLISH
X-WR-CALNAME:FundArt
X-ORIGINAL-URL:https://fundart.com.br
X-WR-CALDESC:Eventos para FundArt
BEGIN:VTIMEZONE
TZID:America/Sao_Paulo
BEGIN:STANDARD
TZOFFSETFROM:-0200
TZOFFSETTO:-0300
TZNAME:-03
DTSTART:20180218T020000
END:STANDARD
BEGIN:DAYLIGHT
TZOFFSETFROM:-0300
TZOFFSETTO:-0200
TZNAME:-02
DTSTART:20181104T030000
END:DAYLIGHT
END:VTIMEZONE
BEGIN:VEVENT
DTSTART;TZID=America/Sao_Paulo:20180131T190000
DTEND;TZID=America/Sao_Paulo:20180204T190000
DTSTAMP:20260424T235450
CREATED:20180201T162053Z
LAST-MODIFIED:20180201T162939Z
UID:22873-1517425200-1517770800@fundart.com.br
SUMMARY:Exposição do Grupo Setorial de Artesanato da FundArt
DESCRIPTION:O público que visitar a Praça Anchieta entre os dias 31 de janeiro a 4 de fevereiro \, das 19h à meia noite\,  também terá a oportunidade de conhecer peças exclusivas produzidas pelos artesãos do Grupo Setorial de Artesanato da FundArt. O grupo que tem marcado presença nos feriados prolongados estende a permanência da feria de artesanato até o carnaval com opções em objetos de decoração\, acessórios\, bolsas\, estamparias e cerâmica a partir de R$ 5\,00.
URL:https://fundart.com.br/evento/exposicao-do-grupo-setorial-de-artesanato-da-fundart/
LOCATION:Praça Anchieta\, Centro\, Ubatuba\, 11680-000
CATEGORIES:Artesanato,Exposiçåo
ATTACH;FMTTYPE=image/jpeg:https://fundart.com.br/wp-content/uploads/2018/01/ceramica-artesanato.jpg
END:VEVENT
END:VCALENDAR