BEGIN:VCALENDAR
VERSION:2.0
PRODID:-//FundArt - ECPv5.12.2//NONSGML v1.0//EN
CALSCALE:GREGORIAN
METHOD:PUBLISH
X-WR-CALNAME:FundArt
X-ORIGINAL-URL:https://fundart.com.br
X-WR-CALDESC:Eventos para FundArt
BEGIN:VTIMEZONE
TZID:America/Sao_Paulo
BEGIN:STANDARD
TZOFFSETFROM:-0300
TZOFFSETTO:-0300
TZNAME:-03
DTSTART:20220101T000000
END:STANDARD
END:VTIMEZONE
BEGIN:VEVENT
DTSTART;TZID=America/Sao_Paulo:20220308T080000
DTEND;TZID=America/Sao_Paulo:20220405T170000
DTSTAMP:20260419T223915
CREATED:20220325T152908Z
LAST-MODIFIED:20220325T152908Z
UID:34636-1646726400-1649178000@fundart.com.br
SUMMARY:Exposição Coletiva de Mulheres Artistas de Ubatuba - GESTO
DESCRIPTION:
URL:https://fundart.com.br/evento/exposicao-coletiva-de-mulheres-artistas-de-ubatuba-gesto/
LOCATION:Teatro Municipal Pedro Paulo Teixeira Pinto
CATEGORIES:Grupo Setorial de Artes Plásticas e Visuais
ATTACH;FMTTYPE=image/jpeg:https://fundart.com.br/wp-content/uploads/2022/03/WhatsApp-Image-2022-03-03-at-10.38.24.jpeg
END:VEVENT
END:VCALENDAR