BEGIN:VCALENDAR
VERSION:2.0
PRODID:-//FundArt - ECPv5.12.2//NONSGML v1.0//EN
CALSCALE:GREGORIAN
METHOD:PUBLISH
X-WR-CALNAME:FundArt
X-ORIGINAL-URL:https://fundart.com.br
X-WR-CALDESC:Eventos para FundArt
BEGIN:VTIMEZONE
TZID:America/Sao_Paulo
BEGIN:STANDARD
TZOFFSETFROM:-0200
TZOFFSETTO:-0300
TZNAME:-03
DTSTART:20180218T020000
END:STANDARD
BEGIN:DAYLIGHT
TZOFFSETFROM:-0300
TZOFFSETTO:-0200
TZNAME:-02
DTSTART:20181104T030000
END:DAYLIGHT
END:VTIMEZONE
BEGIN:VEVENT
DTSTART;TZID=America/Sao_Paulo:20180822T093000
DTEND;TZID=America/Sao_Paulo:20180822T160000
DTSTAMP:20260424T140859
CREATED:20180716T121510Z
LAST-MODIFIED:20180820T174830Z
UID:25081-1534930200-1534953600@fundart.com.br
SUMMARY:Dia do Folclore tem programação especial na Biblioteca Municipal
DESCRIPTION:Confira a programação:\nDas 9h30 às 12h30 e das 14h30 às 17h – Pintou Folclore\nDentro da Biblioteca \nUm espaço com atividades interativas entre as crianças e as artistas plásticas Sonia Nogueira e Rosana Gaeta\, que farão\, respectivamente\, pintura em tela e pintura digital ao vivo de seres do folclore brasileiro. O “Pintou Folclore” será ambientado com obras inspiradas nas lendas de Ubatuba\, assinadas por Jussara Guimarães. \n10h30 – Trio Cai & Sara\nPraça 13 de Maio \nO Trio Cai & Sara faz a contação de história do “Ratambufe: o Boi de Conchas” e o esquete “Alma gêmea do ovo”\, ideal para crianças em idade pré-escolar. \nÀs 11h e às 13h  – Brincadeiras folclóricas\nPraça 13 de Maio \nO resgate às brincadeiras de antigamente acontecerá na Praça 13 de maio e incluirá Amarelinha\, Passa-anel corda e bambolê\, entre outras brincadeiras. \n14h – Trio Cai & Sara\nPraça 13 de Maio \nO Trio Cai & Sara faz nova sessão da contação de história do “Ratambufe: o Boi de Conchas” e o esquete “Alma gêmea do ovo”\, ideal para crianças em idade pré-escolar. \n16h – Treasure Hunters\nPraça 13 de Maio \nOs adolescentes poderão treinar o inglês ao saírem em uma caça a seres mitológicos celtas na Praça 13 de Maio. \nHaverá ainda a exposição de livros\, fotografias e telas de artistas plásticos de Ubatuba! \n 
URL:https://fundart.com.br/evento/evento-exposicao-comemorativa-dia-do-folclore/
CATEGORIES:Folclore
ATTACH;FMTTYPE=image/jpeg:https://fundart.com.br/wp-content/uploads/2018/08/38665101_837088173082019_7708449192229732352_n.jpg
END:VEVENT
END:VCALENDAR