BEGIN:VCALENDAR
VERSION:2.0
PRODID:-//FundArt - ECPv5.12.2//NONSGML v1.0//EN
CALSCALE:GREGORIAN
METHOD:PUBLISH
X-WR-CALNAME:FundArt
X-ORIGINAL-URL:https://fundart.com.br
X-WR-CALDESC:Eventos para FundArt
BEGIN:VTIMEZONE
TZID:America/Sao_Paulo
BEGIN:STANDARD
TZOFFSETFROM:-0200
TZOFFSETTO:-0300
TZNAME:-03
DTSTART:20180218T020000
END:STANDARD
BEGIN:DAYLIGHT
TZOFFSETFROM:-0300
TZOFFSETTO:-0200
TZNAME:-02
DTSTART:20181104T030000
END:DAYLIGHT
END:VTIMEZONE
BEGIN:VEVENT
DTSTART;TZID=America/Sao_Paulo:20181221T203000
DTEND;TZID=America/Sao_Paulo:20181221T203000
DTSTAMP:20260422T132910
CREATED:20181217T132159Z
LAST-MODIFIED:20181219T124128Z
UID:26469-1545424200-1545424200@fundart.com.br
SUMMARY:Especial de Natal com a Retreta Maestro Pedrinho
DESCRIPTION:Especial de Natal com a Retreta Maestro Pedrinho\nData: 21 de dezembro – sexta-feira\nHora: 20h30\nLocal: Praça Exaltação da Santa Cruz
URL:https://fundart.com.br/evento/especial-de-natal-com-retreta-maestro-pedrinho/
LOCATION:Praça Exaltação à Santa Cruz\, Ubatuba
CATEGORIES:Banda Lira Padre Anchieta,Gastronomia
ATTACH;FMTTYPE=image/jpeg:https://fundart.com.br/wp-content/uploads/2018/12/retreta-maestro-pedrinho1.jpg
END:VEVENT
END:VCALENDAR