BEGIN:VCALENDAR
VERSION:2.0
PRODID:-//FundArt - ECPv5.12.2//NONSGML v1.0//EN
CALSCALE:GREGORIAN
METHOD:PUBLISH
X-WR-CALNAME:FundArt
X-ORIGINAL-URL:https://fundart.com.br
X-WR-CALDESC:Eventos para FundArt
BEGIN:VTIMEZONE
TZID:America/Sao_Paulo
BEGIN:STANDARD
TZOFFSETFROM:-0200
TZOFFSETTO:-0300
TZNAME:-03
DTSTART:20190217T020000
END:STANDARD
END:VTIMEZONE
BEGIN:VEVENT
DTSTART;TZID=America/Sao_Paulo:20191013T190000
DTEND;TZID=America/Sao_Paulo:20191013T190000
DTSTAMP:20260421T190605
CREATED:20191003T133455Z
LAST-MODIFIED:20191003T133455Z
UID:29139-1570993200-1570993200@fundart.com.br
SUMMARY:Entre quatro paredes (Boramônta Coletivo Teatral)
DESCRIPTION:4º FePET – Festival dos Pequenos Espaços Teatrais
URL:https://fundart.com.br/evento/entre-quatro-paredes-boramonta-coletivo-teatral/
LOCATION:Espaço Menestrel\, Rua Salvador Corrêa\, 224 - Centro
CATEGORIES:FePET
END:VEVENT
END:VCALENDAR