BEGIN:VCALENDAR
VERSION:2.0
PRODID:-//FundArt - ECPv5.12.2//NONSGML v1.0//EN
CALSCALE:GREGORIAN
METHOD:PUBLISH
X-WR-CALNAME:FundArt
X-ORIGINAL-URL:https://fundart.com.br
X-WR-CALDESC:Eventos para FundArt
BEGIN:VTIMEZONE
TZID:America/Sao_Paulo
BEGIN:STANDARD
TZOFFSETFROM:-0200
TZOFFSETTO:-0300
TZNAME:-03
DTSTART:20190217T020000
END:STANDARD
END:VTIMEZONE
BEGIN:VEVENT
DTSTART;TZID=America/Sao_Paulo:20191127T190000
DTEND;TZID=America/Sao_Paulo:20191127T190000
DTSTAMP:20260421T191513
CREATED:20191031T150210Z
LAST-MODIFIED:20191031T150210Z
UID:29419-1574881200-1574881200@fundart.com.br
SUMMARY:Encerramento da Oficina de Teatro Juvenil da FundArt (iniciante)
DESCRIPTION:Programa “Arte Para Todos” \nArte-educador: Rodrigo Caldeira
URL:https://fundart.com.br/evento/encerramento-da-oficina-de-teatro-juvenil-da-fundart-iniciante/
LOCATION:Teatro Municipal Pedro Paulo Teixeira Pinto
CATEGORIES:Arte Para Todos,Teatro
END:VEVENT
END:VCALENDAR