BEGIN:VCALENDAR
VERSION:2.0
PRODID:-//FundArt - ECPv5.12.2//NONSGML v1.0//EN
CALSCALE:GREGORIAN
METHOD:PUBLISH
X-WR-CALNAME:FundArt
X-ORIGINAL-URL:https://fundart.com.br
X-WR-CALDESC:Eventos para FundArt
BEGIN:VTIMEZONE
TZID:America/Sao_Paulo
BEGIN:STANDARD
TZOFFSETFROM:-0200
TZOFFSETTO:-0300
TZNAME:-03
DTSTART:20190217T020000
END:STANDARD
END:VTIMEZONE
BEGIN:VEVENT
DTSTART;TZID=America/Sao_Paulo:20191129T200000
DTEND;TZID=America/Sao_Paulo:20191129T200000
DTSTAMP:20260421T173749
CREATED:20191031T151055Z
LAST-MODIFIED:20191031T151055Z
UID:29431-1575057600-1575057600@fundart.com.br
SUMMARY:Encerramento da Oficina de Canto Popular da FundArt
DESCRIPTION:Programa “Arte Para Todos” \nArte-educadora: Ligia Teubl
URL:https://fundart.com.br/evento/encerramento-da-oficina-de-canto-popular-da-fundart/
LOCATION:Teatro Municipal Pedro Paulo Teixeira Pinto
CATEGORIES:Arte Para Todos
END:VEVENT
END:VCALENDAR