BEGIN:VCALENDAR
VERSION:2.0
PRODID:-//FundArt - ECPv5.12.2//NONSGML v1.0//EN
CALSCALE:GREGORIAN
METHOD:PUBLISH
X-WR-CALNAME:FundArt
X-ORIGINAL-URL:https://fundart.com.br
X-WR-CALDESC:Eventos para FundArt
BEGIN:VTIMEZONE
TZID:America/Sao_Paulo
BEGIN:STANDARD
TZOFFSETFROM:-0200
TZOFFSETTO:-0300
TZNAME:-03
DTSTART:20180218T020000
END:STANDARD
BEGIN:DAYLIGHT
TZOFFSETFROM:-0300
TZOFFSETTO:-0200
TZNAME:-02
DTSTART:20181104T030000
END:DAYLIGHT
END:VTIMEZONE
BEGIN:VEVENT
DTSTART;TZID=America/Sao_Paulo:20180330T210000
DTEND;TZID=America/Sao_Paulo:20180330T210000
DTSTAMP:20260424T195011
CREATED:20180326T121339Z
LAST-MODIFIED:20180326T121339Z
UID:23432-1522443600-1522443600@fundart.com.br
SUMMARY:Encenação da Paixão de Cristo
DESCRIPTION:A Sexta-Feira Santa\, também conhecida como “Sexta da Paixão”\, antecede o domingo de Páscoa e este ano acontecerá no dia 30 de março.  Paixão provém do latim passio\, que indica sofrimento. É o termo utilizado para descrever os eventos e os sofrimentos — físicos\, espirituais e mentais — de Jesus nas horas que antecederam seu julgamento e sua execução. \nEm Ubatuba\, a encenação da Paixão de Cristo é uma tradição e segue há anos emocionando turistas e moradores. Nesse dia todos são convidados a recordar o sacrifício de Jesus\, ao ser julgado\, torturado e crucificado por amor à humanidade. \nPara este ano\, Thiago Ramos – responsável pela direção do espetáculo – promete entregar ao público algo totalmente novo\, desde texto\, figurinos e sonoplastia. O espetáculo acontecerá de forma itinerante e dará ênfase ao verdadeiro sentido da Paixão de Cristo\, contando os últimos momentos de Jesus. \nA encenação terá início às 21h no Sobradão do Porto e contará com 40 atores\, 20 figurantes e mais 15 pessoas\, entre direção\, produção e equipe de apoio\, todos muito empenhados em entregar ao público um espetáculo emocionante\, desta que é uma das mais belas histórias da humanidade.
URL:https://fundart.com.br/evento/encenacao-da-paixao-de-cristo/
LOCATION:Sobradão do Porto\, Praça Anchieta\, 38 - Centro\, Ubatuba
CATEGORIES:Paixão de Cristo
ATTACH;FMTTYPE=image/jpeg:https://fundart.com.br/wp-content/uploads/2018/03/paixao_face.jpg
ORGANIZER;CN="FundArt":MAILTO:contato@fundart.com
END:VEVENT
END:VCALENDAR