BEGIN:VCALENDAR
VERSION:2.0
PRODID:-//FundArt - ECPv5.12.2//NONSGML v1.0//EN
CALSCALE:GREGORIAN
METHOD:PUBLISH
X-WR-CALNAME:FundArt
X-ORIGINAL-URL:https://fundart.com.br
X-WR-CALDESC:Eventos para FundArt
BEGIN:VTIMEZONE
TZID:America/Sao_Paulo
BEGIN:STANDARD
TZOFFSETFROM:-0200
TZOFFSETTO:-0300
TZNAME:-03
DTSTART:20190217T020000
END:STANDARD
END:VTIMEZONE
BEGIN:VEVENT
DTSTART;TZID=America/Sao_Paulo:20191014T160000
DTEND;TZID=America/Sao_Paulo:20191014T160000
DTSTAMP:20260421T185844
CREATED:20191003T133907Z
LAST-MODIFIED:20191003T133907Z
UID:29144-1571068800-1571068800@fundart.com.br
SUMMARY:Encantes da Floresta (Cia Mangará)
DESCRIPTION:4º FePET – Festival dos Pequenos Espaços Teatrais
URL:https://fundart.com.br/evento/encantes-da-floresta-cia-mangara/
LOCATION:Instituto da árvore\, Rua da Usina Velha\, 593 – Pedreira
CATEGORIES:FePET
END:VEVENT
END:VCALENDAR