BEGIN:VCALENDAR
VERSION:2.0
PRODID:-//FundArt - ECPv5.12.2//NONSGML v1.0//EN
CALSCALE:GREGORIAN
METHOD:PUBLISH
X-WR-CALNAME:FundArt
X-ORIGINAL-URL:https://fundart.com.br
X-WR-CALDESC:Eventos para FundArt
BEGIN:VTIMEZONE
TZID:America/Sao_Paulo
BEGIN:STANDARD
TZOFFSETFROM:-0200
TZOFFSETTO:-0300
TZNAME:-03
DTSTART:20190217T020000
END:STANDARD
END:VTIMEZONE
BEGIN:VEVENT
DTSTART;TZID=America/Sao_Paulo:20191014T200000
DTEND;TZID=America/Sao_Paulo:20191014T200000
DTSTAMP:20260421T203631
CREATED:20191003T134039Z
LAST-MODIFIED:20191003T134039Z
UID:29147-1571083200-1571083200@fundart.com.br
SUMMARY:Elogios à morte: Leitura Dramática de Contos\, Crônicas e Poesias de Lima Barreto e G.O.G - Rodrigo Caldeira\, Venicio Toledo
DESCRIPTION:4º FePET – Festival dos Pequenos Espaços Teatrais
URL:https://fundart.com.br/evento/elogios-morte-leitura-dramatica-de-contos-cronicas-e-poesias-de-lima-barreto-e-g-o-g-rodrigo-caldeira-venicio-toledo/
LOCATION:Instituto da árvore\, Rua da Usina Velha\, 593 – Pedreira
CATEGORIES:FePET
END:VEVENT
END:VCALENDAR