BEGIN:VCALENDAR
VERSION:2.0
PRODID:-//FundArt - ECPv5.12.2//NONSGML v1.0//EN
CALSCALE:GREGORIAN
METHOD:PUBLISH
X-WR-CALNAME:FundArt
X-ORIGINAL-URL:https://fundart.com.br
X-WR-CALDESC:Eventos para FundArt
BEGIN:VTIMEZONE
TZID:America/Sao_Paulo
BEGIN:STANDARD
TZOFFSETFROM:-0200
TZOFFSETTO:-0300
TZNAME:-03
DTSTART:20190217T020000
END:STANDARD
END:VTIMEZONE
BEGIN:VEVENT
DTSTART;TZID=America/Sao_Paulo:20190308T080000
DTEND;TZID=America/Sao_Paulo:20190308T170000
DTSTAMP:20260422T052814
CREATED:20190102T164855Z
LAST-MODIFIED:20190102T164920Z
UID:26568-1552032000-1552064400@fundart.com.br
SUMMARY:Dia Internacional da Mulher
DESCRIPTION:Dia Internacional da Mulher
URL:https://fundart.com.br/evento/dia-internacional-da-mulher-2/
CATEGORIES:Dia Internacional da Mulher
END:VEVENT
END:VCALENDAR