BEGIN:VCALENDAR
VERSION:2.0
PRODID:-//FundArt - ECPv5.12.2//NONSGML v1.0//EN
CALSCALE:GREGORIAN
METHOD:PUBLISH
X-WR-CALNAME:FundArt
X-ORIGINAL-URL:https://fundart.com.br
X-WR-CALDESC:Eventos para FundArt
BEGIN:VTIMEZONE
TZID:America/Sao_Paulo
BEGIN:STANDARD
TZOFFSETFROM:-0200
TZOFFSETTO:-0300
TZNAME:-03
DTSTART:20190217T020000
END:STANDARD
END:VTIMEZONE
BEGIN:VEVENT
DTSTART;TZID=America/Sao_Paulo:20190822T090000
DTEND;TZID=America/Sao_Paulo:20190822T173000
DTSTAMP:20260421T214426
CREATED:20181228T152002Z
LAST-MODIFIED:20190821T143832Z
UID:26542-1566464400-1566495000@fundart.com.br
SUMMARY:Dia do Folclore Nacional
DESCRIPTION:
URL:https://fundart.com.br/evento/dia-do-folclore-nacional/
LOCATION:Biblioteca Pública Municipal\, Praça 13 de Maio - centro\, Ubatuba\, Brasil
ORGANIZER;CN="FundArt":MAILTO:contato@fundart.com
END:VEVENT
END:VCALENDAR